BEGIN:VCALENDAR
VERSION:2.0
PRODID:-//Detroit City FC - ECPv6.15.17.1//NONSGML v1.0//EN
CALSCALE:GREGORIAN
METHOD:PUBLISH
X-WR-CALNAME:Detroit City FC
X-ORIGINAL-URL:https://www.detcityfc.com
X-WR-CALDESC:Events for Detroit City FC
REFRESH-INTERVAL;VALUE=DURATION:PT1H
X-Robots-Tag:noindex
X-PUBLISHED-TTL:PT1H
BEGIN:VTIMEZONE
TZID:America/New_York
BEGIN:DAYLIGHT
TZOFFSETFROM:-0500
TZOFFSETTO:-0400
TZNAME:EDT
DTSTART:20250309T070000
END:DAYLIGHT
BEGIN:STANDARD
TZOFFSETFROM:-0400
TZOFFSETTO:-0500
TZNAME:EST
DTSTART:20251102T060000
END:STANDARD
BEGIN:DAYLIGHT
TZOFFSETFROM:-0500
TZOFFSETTO:-0400
TZNAME:EDT
DTSTART:20260308T070000
END:DAYLIGHT
BEGIN:STANDARD
TZOFFSETFROM:-0400
TZOFFSETTO:-0500
TZNAME:EST
DTSTART:20261101T060000
END:STANDARD
BEGIN:DAYLIGHT
TZOFFSETFROM:-0500
TZOFFSETTO:-0400
TZNAME:EDT
DTSTART:20270314T070000
END:DAYLIGHT
BEGIN:STANDARD
TZOFFSETFROM:-0400
TZOFFSETTO:-0500
TZNAME:EST
DTSTART:20271107T060000
END:STANDARD
END:VTIMEZONE
BEGIN:VEVENT
DTSTART;TZID=America/New_York:20260516T190000
DTEND;TZID=America/New_York:20260516T210000
DTSTAMP:20260423T171513
CREATED:20260416T190759Z
LAST-MODIFIED:20260416T190759Z
UID:10000041-1778958000-1778965200@www.detcityfc.com
SUMMARY:Detroit City FC vs AFC Ann Arbor
DESCRIPTION:W League play opens as Detroit City FC travels to AFC Ann Arbor.
URL:https://www.detcityfc.com/event/detroit-city-fc-vs-afc-ann-arbor/
LOCATION:Holloway Field\, 601 W. Stadium Blvd\, Ann Arbor\, MI\, 48103\, United States
CATEGORIES:W League
END:VEVENT
BEGIN:VEVENT
DTSTART;TZID=America/New_York:20260523T190000
DTEND;TZID=America/New_York:20260523T210000
DTSTAMP:20260423T171513
CREATED:20260416T163556Z
LAST-MODIFIED:20260416T163841Z
UID:10000031-1779562800-1779570000@www.detcityfc.com
SUMMARY:Detroit City FC vs Kalamazoo FC
DESCRIPTION:Join us for our W League home opener as we take on Kalamazoo FC at Keyworth Stadium
URL:https://www.detcityfc.com/event/detroit-city-fc-vs-kalamazoo-fc/
LOCATION:Keyworth Stadium
CATEGORIES:W League
END:VEVENT
BEGIN:VEVENT
DTSTART;TZID=America/New_York:20260527T190000
DTEND;TZID=America/New_York:20260527T210000
DTSTAMP:20260423T171513
CREATED:20260416T190958Z
LAST-MODIFIED:20260416T190958Z
UID:10000042-1779908400-1779915600@www.detcityfc.com
SUMMARY:Detroit City FC vs Union FC Macomb
DESCRIPTION:Detroit City FC travels to Romeo\, MI to take on Union FC Macomb.
URL:https://www.detcityfc.com/event/detroit-city-fc-vs-union-fc-macomb/
LOCATION:Barnabo Field\, 11097 32 Mile Rd\, Romeo\, MI\, 48065\, United States
CATEGORIES:W League
END:VEVENT
BEGIN:VEVENT
DTSTART;TZID=America/New_York:20260530T180000
DTEND;TZID=America/New_York:20260530T200000
DTSTAMP:20260423T171514
CREATED:20260416T191154Z
LAST-MODIFIED:20260416T191154Z
UID:10000043-1780164000-1780171200@www.detcityfc.com
SUMMARY:Detroit City FC vs  Midwest United FC
DESCRIPTION:Detroit City FC travels to Kentwood\, MI to take on Midwest United FC in W League action.
URL:https://www.detcityfc.com/event/detroit-city-fc-vs-midwest-united-fc/
LOCATION:Christian Athletic Complex\, 3445 36th St SE\, Kentwood\, MI\, 49512\, United States
CATEGORIES:W League
END:VEVENT
END:VCALENDAR