BEGIN:VCALENDAR
VERSION:2.0
PRODID:-//Detroit City FC - ECPv6.15.17.1//NONSGML v1.0//EN
CALSCALE:GREGORIAN
METHOD:PUBLISH
X-WR-CALNAME:Detroit City FC
X-ORIGINAL-URL:https://www.detcityfc.com
X-WR-CALDESC:Events for Detroit City FC
REFRESH-INTERVAL;VALUE=DURATION:PT1H
X-Robots-Tag:noindex
X-PUBLISHED-TTL:PT1H
BEGIN:VTIMEZONE
TZID:America/New_York
BEGIN:DAYLIGHT
TZOFFSETFROM:-0500
TZOFFSETTO:-0400
TZNAME:EDT
DTSTART:20250309T070000
END:DAYLIGHT
BEGIN:STANDARD
TZOFFSETFROM:-0400
TZOFFSETTO:-0500
TZNAME:EST
DTSTART:20251102T060000
END:STANDARD
BEGIN:DAYLIGHT
TZOFFSETFROM:-0500
TZOFFSETTO:-0400
TZNAME:EDT
DTSTART:20260308T070000
END:DAYLIGHT
BEGIN:STANDARD
TZOFFSETFROM:-0400
TZOFFSETTO:-0500
TZNAME:EST
DTSTART:20261101T060000
END:STANDARD
BEGIN:DAYLIGHT
TZOFFSETFROM:-0500
TZOFFSETTO:-0400
TZNAME:EDT
DTSTART:20270314T070000
END:DAYLIGHT
BEGIN:STANDARD
TZOFFSETFROM:-0400
TZOFFSETTO:-0500
TZNAME:EST
DTSTART:20271107T060000
END:STANDARD
END:VTIMEZONE
BEGIN:VEVENT
DTSTART;VALUE=DATE:20260527
DTEND;VALUE=DATE:20260602
DTSTAMP:20260423T183914
CREATED:20260416T164343Z
LAST-MODIFIED:20260416T164735Z
UID:10000034-1779840000-1780358399@www.detcityfc.com
SUMMARY:TST Mixed Tournament
DESCRIPTION:We are competing in the first-ever Mixed Tournament at TST\, the world’s premier 7v7 soccer tournament and festival. The event brings together teams of top players\, celebrities and clubs from around the globe to Cary\, North Carolina to compete for three $1 million dollar prizes!
URL:https://www.detcityfc.com/event/tst-mixed-tournament/
LOCATION:WAKEMED SOCCER PARK\, 101 Soccer Park Dr\, Cary\, NC\, 27511\, United States
CATEGORIES:TST
END:VEVENT
END:VCALENDAR