BEGIN:VCALENDAR
VERSION:2.0
PRODID:-//Detroit City FC - ECPv6.15.17.1//NONSGML v1.0//EN
CALSCALE:GREGORIAN
METHOD:PUBLISH
X-ORIGINAL-URL:https://www.detcityfc.com
X-WR-CALDESC:Events for Detroit City FC
REFRESH-INTERVAL;VALUE=DURATION:PT1H
X-Robots-Tag:noindex
X-PUBLISHED-TTL:PT1H
BEGIN:VTIMEZONE
TZID:America/New_York
BEGIN:DAYLIGHT
TZOFFSETFROM:-0500
TZOFFSETTO:-0400
TZNAME:EDT
DTSTART:20250309T070000
END:DAYLIGHT
BEGIN:STANDARD
TZOFFSETFROM:-0400
TZOFFSETTO:-0500
TZNAME:EST
DTSTART:20251102T060000
END:STANDARD
BEGIN:DAYLIGHT
TZOFFSETFROM:-0500
TZOFFSETTO:-0400
TZNAME:EDT
DTSTART:20260308T070000
END:DAYLIGHT
BEGIN:STANDARD
TZOFFSETFROM:-0400
TZOFFSETTO:-0500
TZNAME:EST
DTSTART:20261101T060000
END:STANDARD
BEGIN:DAYLIGHT
TZOFFSETFROM:-0500
TZOFFSETTO:-0400
TZNAME:EDT
DTSTART:20270314T070000
END:DAYLIGHT
BEGIN:STANDARD
TZOFFSETFROM:-0400
TZOFFSETTO:-0500
TZNAME:EST
DTSTART:20271107T060000
END:STANDARD
END:VTIMEZONE
BEGIN:VEVENT
DTSTART;TZID=America/New_York:20260516T180000
DTEND;TZID=America/New_York:20260516T200000
DTSTAMP:20260423T184637
CREATED:20260416T172247Z
LAST-MODIFIED:20260416T172247Z
UID:10000038-1778954400-1778961600@www.detcityfc.com
SUMMARY:Detroit City FC vs Forward Madison FC
DESCRIPTION:Detroit City FC travels to Madison to take on Forward Madison FC in the opening round of the 2026 Prinx Tires USL Cup.
URL:https://www.detcityfc.com/event/detroit-city-fc-vs-forward-madison-fc/
LOCATION:Breese Stevens Field\, 917 E Mifflin St\, Madison\, WI\, 53703\, United States
CATEGORIES:2026 Prinx Tires USL Cup
END:VEVENT
END:VCALENDAR